BEGIN:VCALENDAR
VERSION:2.0
PRODID:-//Premier Performance - ECPv6.15.20//NONSGML v1.0//EN
CALSCALE:GREGORIAN
METHOD:PUBLISH
X-WR-CALNAME:Premier Performance
X-ORIGINAL-URL:https://twirldancecheer.com
X-WR-CALDESC:Events for Premier Performance
REFRESH-INTERVAL;VALUE=DURATION:PT1H
X-Robots-Tag:noindex
X-PUBLISHED-TTL:PT1H
BEGIN:VTIMEZONE
TZID:UTC
BEGIN:STANDARD
TZOFFSETFROM:+0000
TZOFFSETTO:+0000
TZNAME:UTC
DTSTART:20140101T000000
END:STANDARD
END:VTIMEZONE
BEGIN:VEVENT
DTSTART;TZID=UTC:20190725T180000
DTEND;TZID=UTC:20190725T200000
DTSTAMP:20260424T000014
CREATED:20190503T231550Z
LAST-MODIFIED:20190503T231550Z
UID:1534-1564077600-1564084800@twirldancecheer.com
SUMMARY:Dance Company Evaluation Clinic
DESCRIPTION:A brand new competitive program focusing on a variety of styles. The teams will practice twice weekly on Mondays and Wednesdays. All ages welcome! Competitions will be set in the coming weeks.\nAll pricing information will be given at the clinic.
URL:https://twirldancecheer.com/event/dance-company-evaluation-clinic/
LOCATION:Premier\, 2971 Monroe Highway\, Suite 106\, Bogart\, GA\, 30622\, United States
ORGANIZER;CN="Candy Byrd-Miller":MAILTO:info@twirldancecheer.com
END:VEVENT
BEGIN:VEVENT
DTSTART;TZID=UTC:20190511T100000
DTEND;TZID=UTC:20190511T110000
DTSTAMP:20260424T000014
CREATED:20190422T114822Z
LAST-MODIFIED:20190422T114822Z
UID:1484-1557568800-1557572400@twirldancecheer.com
SUMMARY:Competitive Cheer Evaluations ages 5-9
DESCRIPTION:Competitive Cheer evaluations for ages 5-9!  The evaluation will last an hour and our coaches will evaluate cheer knowledge and tumble skills to assess placement level.  $20 fee for new cheerleaders\, no charge for current Premier students. Pricing and schedule will be given at the evaluation.
URL:https://twirldancecheer.com/event/competitive-cheer-evaluations-ages-5-9/
LOCATION:Premier\, 2971 Monroe Highway\, Suite 106\, Bogart\, GA\, 30622\, United States
ORGANIZER;CN="Candy Byrd-Miller":MAILTO:info@twirldancecheer.com
END:VEVENT
BEGIN:VEVENT
DTSTART;VALUE=DATE:20190423
DTEND;VALUE=DATE:20190702
DTSTAMP:20260424T000014
CREATED:20160310T161007Z
LAST-MODIFIED:20190422T115815Z
UID:1021-1555977600-1562025599@twirldancecheer.com
SUMMARY:Summer Camps Registration Open!
DESCRIPTION:Our 6 week summer camp session begins on June 3!    Summer Camp info can be found on the summer camps page.
URL:https://twirldancecheer.com/event/summer-camp-registration-opens/
LOCATION:Premier\, 2971 Monroe Highway\, Suite 106\, Bogart\, GA\, 30622\, United States
ORGANIZER;CN="Candy Byrd-Miller":MAILTO:info@twirldancecheer.com
END:VEVENT
BEGIN:VEVENT
DTSTART;TZID=UTC:20180731T163000
DTEND;TZID=UTC:20180731T180000
DTSTAMP:20260424T000014
CREATED:20170721T152742Z
LAST-MODIFIED:20180718T173707Z
UID:1337-1533054600-1533060000@twirldancecheer.com
SUMMARY:Open House
DESCRIPTION:
URL:https://twirldancecheer.com/event/open-house-3/
LOCATION:Premier\, 2971 Monroe Highway\, Suite 106\, Bogart\, GA\, 30622\, United States
ORGANIZER;CN="Candy Byrd-Miller":MAILTO:info@twirldancecheer.com
END:VEVENT
BEGIN:VEVENT
DTSTART;TZID=UTC:20180729T163000
DTEND;TZID=UTC:20180729T180000
DTSTAMP:20260424T000014
CREATED:20170721T153030Z
LAST-MODIFIED:20180718T173832Z
UID:1339-1532881800-1532887200@twirldancecheer.com
SUMMARY:Open House
DESCRIPTION:
URL:https://twirldancecheer.com/event/open-house-4/
LOCATION:Premier\, 2971 Monroe Highway\, Suite 106\, Bogart\, GA\, 30622\, United States
ORGANIZER;CN="Candy Byrd-Miller":MAILTO:info@twirldancecheer.com
END:VEVENT
BEGIN:VEVENT
DTSTART;VALUE=DATE:20180623
DTEND;VALUE=DATE:20180624
DTSTAMP:20260424T000014
CREATED:20180122T025438Z
LAST-MODIFIED:20180122T025809Z
UID:1365-1529712000-1529798399@twirldancecheer.com
SUMMARY:Grand Champs on the Grand Strand\, Myrtle Beach
DESCRIPTION:The 6th Annual Grand Champs Competition is a fun-filled day of twirl and dance competition held in Myrtle Beach South Carolina! \n2018 Grand Champs Brochure
URL:https://twirldancecheer.com/event/grand-champs-on-the-grand-strand-myrtle-beach/
LOCATION:St. James High School\, Murrell’s Inlet\, SC\, 10800 South Carolina 707\, Murrell"s Inlet\, SC\, 29576\, United States
ORGANIZER;CN="Candy Byrd-Miller":MAILTO:info@twirldancecheer.com
END:VEVENT
BEGIN:VEVENT
DTSTART;TZID=UTC:20170730T140000
DTEND;TZID=UTC:20170730T160000
DTSTAMP:20260424T000014
CREATED:20170721T152653Z
LAST-MODIFIED:20170727T203502Z
UID:1335-1501423200-1501430400@twirldancecheer.com
SUMMARY:Open House
DESCRIPTION:
URL:https://twirldancecheer.com/event/open-house-2/
LOCATION:Premier\, 2971 Monroe Highway\, Suite 106\, Bogart\, GA\, 30622\, United States
ORGANIZER;CN="Candy Byrd-Miller":MAILTO:info@twirldancecheer.com
END:VEVENT
BEGIN:VEVENT
DTSTART;TZID=UTC:20161218T160000
DTEND;TZID=UTC:20161218T180000
DTSTAMP:20260424T000014
CREATED:20160802T122910Z
LAST-MODIFIED:20160802T122910Z
UID:1258-1482076800-1482084000@twirldancecheer.com
SUMMARY:PREMIER CHRISTMAS SPECTACULAR and SLEEPOVER!
DESCRIPTION:SAVE THE DATE\, to join us at PREMIER for our Christmas Spectacular as our classes and teams show off their skills and routines! There will be fun\, food\, gifts\, SANTA\, and best of all\, A SLEEPOVER for the kids so parents and caregivers can shop til you drop!  You will receive more information later in the fall!
URL:https://twirldancecheer.com/event/premier-christmas-spectacular-and-sleepover/
LOCATION:Oconee Veterans Park Gymnasium\, 3500 Hog Mountain Road\, Watkinsville\, GA\, 30677\, United States
ORGANIZER;CN="Candy Byrd-Miller":MAILTO:info@twirldancecheer.com
END:VEVENT
BEGIN:VEVENT
DTSTART;TZID=UTC:20161005T190000
DTEND;TZID=UTC:20161005T203000
DTSTAMP:20260424T000014
CREATED:20160310T162144Z
LAST-MODIFIED:20160914T213104Z
UID:1023-1475694000-1475699400@twirldancecheer.com
SUMMARY:Premier All Star Dance Team Begins!
DESCRIPTION:Premier is thrilled to compete with our first ALL STAR DANCE TEAM(Pom\, Hip Hop\, Jazz)!  We have a fantastic staff who is prepared and excited to coach and mentor our athletes in a way that uplifts\, encourages\, and builds confidence in a positive environment! \nOur team practice for girls 6th grade-12th grade will begin on Wednesday\, October 5\, 2016\, 7-8:30. \nInformation regarding pricing and schedule is available!  Please email candy@twirldancecheer.com or stop by PREMIER to check us out and LEARN MORE!
URL:https://twirldancecheer.com/event/premier-cheer-team-evaluations/
LOCATION:Oconee Veterans Park Gymnasium\, 3500 Hog Mountain Road\, Watkinsville\, GA\, 30677\, United States
ORGANIZER;CN="Candy Byrd-Miller":MAILTO:info@twirldancecheer.com
END:VEVENT
BEGIN:VEVENT
DTSTART;VALUE=DATE:20160910
DTEND;VALUE=DATE:20160911
DTSTAMP:20260424T000014
CREATED:20160730T174840Z
LAST-MODIFIED:20160730T174840Z
UID:1253-1473465600-1473551999@twirldancecheer.com
SUMMARY:National All Star Cheer and Dance Day Celebration and Sleepover!
DESCRIPTION:Celebrate Dance and Cheer at Premier! Bring a friend and celebrate with us!
URL:https://twirldancecheer.com/event/national-all-star-cheer-and-dance-day-celebration-and-sleepover/
LOCATION:Oconee Veterans Park Gymnasium\, 3500 Hog Mountain Road\, Watkinsville\, GA\, 30677\, United States
ORGANIZER;CN="Candy Byrd-Miller":MAILTO:info@twirldancecheer.com
END:VEVENT
BEGIN:VEVENT
DTSTART;VALUE=DATE:20160829
DTEND;VALUE=DATE:20160903
DTSTAMP:20260424T000014
CREATED:20160802T120726Z
LAST-MODIFIED:20160802T120726Z
UID:1256-1472428800-1472860799@twirldancecheer.com
SUMMARY:BRING A FRIEND TO CLASS!
DESCRIPTION:Bring a friend to your PREMIER class this week!  If they sign up\, you get a discount on your September tuition!
URL:https://twirldancecheer.com/event/bring-a-friend-to-class/
LOCATION:Oconee Veterans Park Gymnasium\, 3500 Hog Mountain Road\, Watkinsville\, GA\, 30677\, United States
ORGANIZER;CN="Candy Byrd-Miller":MAILTO:info@twirldancecheer.com
END:VEVENT
BEGIN:VEVENT
DTSTART;TZID=UTC:20160807T140000
DTEND;TZID=UTC:20160807T160000
DTSTAMP:20260424T000014
CREATED:20160730T174558Z
LAST-MODIFIED:20160730T174558Z
UID:1252-1470578400-1470585600@twirldancecheer.com
SUMMARY:Open House and Registration
DESCRIPTION:WEEKLY SCHEDULE 2016 \nClass Registration 2016-17 \nLiability Waiver and Studio Policies 2016-17 \n 
URL:https://twirldancecheer.com/event/open-house-and-registration-2/
LOCATION:Oconee Veterans Park Gymnasium\, 3500 Hog Mountain Road\, Watkinsville\, GA\, 30677\, United States
ORGANIZER;CN="Candy Byrd-Miller":MAILTO:info@twirldancecheer.com
END:VEVENT
BEGIN:VEVENT
DTSTART;TZID=UTC:20160731T140000
DTEND;TZID=UTC:20160731T160000
DTSTAMP:20260424T000014
CREATED:20160730T174430Z
LAST-MODIFIED:20160730T174430Z
UID:1250-1469973600-1469980800@twirldancecheer.com
SUMMARY:Open House and Registration
DESCRIPTION:WEEKLY SCHEDULE 2016 \nClass Registration 2016-17 \nLiability Waiver and Studio Policies 2016-17 \n 
URL:https://twirldancecheer.com/event/open-house-and-registration/
LOCATION:Oconee Veterans Park Gymnasium\, 3500 Hog Mountain Road\, Watkinsville\, GA\, 30677\, United States
ORGANIZER;CN="Candy Byrd-Miller":MAILTO:info@twirldancecheer.com
END:VEVENT
BEGIN:VEVENT
DTSTART;TZID=UTC:20160228T140000
DTEND;TZID=UTC:20160228T180000
DTSTAMP:20260424T000014
CREATED:20151102T160957Z
LAST-MODIFIED:20160211T181916Z
UID:821-1456668000-1456682400@twirldancecheer.com
SUMMARY:Cheer Clinic with Falcons Cheerleader\, Nicole Bell!
DESCRIPTION:Join us for a Tryout Prep Clinic with Falcons Cheerleader\, Nicole Bell!  She is a former All-Star Cheerleader and has many years of cheer and dance experience!  She is excited to help prepare cheerleaders who want to try out for their school team or a Premier competitive team! \n2:00-4:00 Ages 8-13… \n4:00-6:00 Ages 14-up… \nYou must register by emailing Candy@twirldancecheer.com. \nDeadline: Tuesday\, March 1!
URL:https://twirldancecheer.com/event/cheer-and-dance-clinic-with-falcons-cheerleader-nicole-bell/
LOCATION:Oconee Veterans Park Gymnasium\, 3500 Hog Mountain Road\, Watkinsville\, GA\, 30677\, United States
ORGANIZER;CN="Candy Byrd-Miller":MAILTO:info@twirldancecheer.com
END:VEVENT
BEGIN:VEVENT
DTSTART;TZID=UTC:20160221T130000
DTEND;TZID=UTC:20160221T170000
DTSTAMP:20260424T000014
CREATED:20151030T185919Z
LAST-MODIFIED:20160203T171142Z
UID:819-1456059600-1456074000@twirldancecheer.com
SUMMARY:Twirling Clinic with UGA Feature Twirler\,  Jameson Kenerly!
DESCRIPTION:Twirl Clinic with Jameson Kenerly on Sunday\, February 21! \nShe is currently a UGA Feature Twirler and National Downfield Strut Champion!  She is Miss College Majorette of Georgia\, First Runner-Up Miss College Majorette of America\, holds numerous state\, regional and national twirling  titles\, and is the former Miss Georgia Outstanding Teen!  She is an awesome teacher and we are excited to have her! \nBeginner and Intermediate Twirlers are welcome 1:00-3:00… \nAdvanced 3:00-5:00… \nYou must register by emailing Candy@twirldancecheer.com. \nDeadline: Wednesday\, February 17! \n 
URL:https://twirldancecheer.com/event/twirling-clinic-with-uga-feature-twirler-jameson-kenerly/
LOCATION:Oconee Veterans Park Gymnasium\, 3500 Hog Mountain Road\, Watkinsville\, GA\, 30677\, United States
ORGANIZER;CN="Candy Byrd-Miller":MAILTO:info@twirldancecheer.com
END:VEVENT
BEGIN:VEVENT
DTSTART;TZID=UTC:20160117T130000
DTEND;TZID=UTC:20160117T150000
DTSTAMP:20260424T000014
CREATED:20150908T160727Z
LAST-MODIFIED:20160104T225319Z
UID:811-1453035600-1453042800@twirldancecheer.com
SUMMARY:Twirl Clinic with Erica Seredni
DESCRIPTION:Erica Seredni\, former University of Virginia Feature Twirler\, N.B.T.A Grand National Champion\, and Miss College Majorette of the Mid-Atlantic is coming to PREMIER! She will be teaching tricks\, combinations\, rolls\, multiple baton\, etc! \nAge 8 and up\, All level twirlers! \nCost $40 \nSpace is limited.  Register via email Candy@twirldancecheer.com\nby Jan 15.
URL:https://twirldancecheer.com/event/twirl-clinic-with-erica-seredni/
LOCATION:Oconee Veterans Park Gymnasium\, 3500 Hog Mountain Road\, Watkinsville\, GA\, 30677\, United States
ORGANIZER;CN="Candy Byrd-Miller":MAILTO:info@twirldancecheer.com
END:VEVENT
BEGIN:VEVENT
DTSTART;TZID=UTC:20151128T090000
DTEND;TZID=UTC:20151128T180000
DTSTAMP:20260424T000014
CREATED:20151102T161646Z
LAST-MODIFIED:20151106T202819Z
UID:823-1448701200-1448733600@twirldancecheer.com
SUMMARY:Black Friday Drop and Shop!
DESCRIPTION:Kids learn and play at Premier…Parents shop! \nAges 4 – 12 \nDrop your kids at 9:00 and pick up at 1:00.  Or drop at 2:00 and pick up at 6:00.  They will have free play\, make crafts\, watch a movie\, and eat Fox’s Pizza for lunch or dinner! \nEmail info@twirldancecheer.com to sign up!  Space will be limited!
URL:https://twirldancecheer.com/event/black-friday-drop-and-shop/
LOCATION:Oconee Veterans Park Gymnasium\, 3500 Hog Mountain Road\, Watkinsville\, GA\, 30677\, United States
ORGANIZER;CN="Candy Byrd-Miller":MAILTO:info@twirldancecheer.com
END:VEVENT
BEGIN:VEVENT
DTSTART;TZID=UTC:20151122T140000
DTEND;TZID=UTC:20151122T160000
DTSTAMP:20260424T000014
CREATED:20151106T202446Z
LAST-MODIFIED:20151106T202619Z
UID:825-1448200800-1448208000@twirldancecheer.com
SUMMARY:Twirl and Dance Clinic with Mrs. Candy to benefit Toys For Tots!
DESCRIPTION:Come and learn twirling with Mrs. Candy for a good cause!  All that is required is two brand new unwrapped toys!  Premier is excited to support the Athens Area Toys For Tots! \n 
URL:https://twirldancecheer.com/event/clinic-with-mrs-candy-to-benefit-toys-for-tots/
LOCATION:Oconee Veterans Park Gymnasium\, 3500 Hog Mountain Road\, Watkinsville\, GA\, 30677\, United States
ORGANIZER;CN="Candy Byrd-Miller":MAILTO:info@twirldancecheer.com
END:VEVENT
END:VCALENDAR