BEGIN:VCALENDAR
VERSION:2.0
PRODID:-//Premier Performance - ECPv6.15.20//NONSGML v1.0//EN
CALSCALE:GREGORIAN
METHOD:PUBLISH
X-WR-CALNAME:Premier Performance
X-ORIGINAL-URL:https://twirldancecheer.com
X-WR-CALDESC:Events for Premier Performance
REFRESH-INTERVAL;VALUE=DURATION:PT1H
X-Robots-Tag:noindex
X-PUBLISHED-TTL:PT1H
BEGIN:VTIMEZONE
TZID:UTC
BEGIN:STANDARD
TZOFFSETFROM:+0000
TZOFFSETTO:+0000
TZNAME:UTC
DTSTART:20150101T000000
END:STANDARD
END:VTIMEZONE
BEGIN:VEVENT
DTSTART;VALUE=DATE:20260213
DTEND;VALUE=DATE:20260216
DTSTAMP:20260423T233644
CREATED:20260105T172403Z
LAST-MODIFIED:20260105T172403Z
UID:7814-1770940800-1771199999@twirldancecheer.com
SUMMARY:Cheersport Nationals
DESCRIPTION:
URL:https://twirldancecheer.com/event/cheersport-nationals/
LOCATION:Atlanta\, GA
END:VEVENT
BEGIN:VEVENT
DTSTART;VALUE=DATE:20260131
DTEND;VALUE=DATE:20260201
DTSTAMP:20260423T233644
CREATED:20260105T223114Z
LAST-MODIFIED:20260105T223114Z
UID:7830-1769817600-1769903999@twirldancecheer.com
SUMMARY:Winter Wonderland Baton Twirling Competition
DESCRIPTION:
URL:https://twirldancecheer.com/event/winter-wonderland-baton-twirling-competition/
LOCATION:Columbia\, SC
END:VEVENT
BEGIN:VEVENT
DTSTART;VALUE=DATE:20260117
DTEND;VALUE=DATE:20260119
DTSTAMP:20260423T233644
CREATED:20260105T172150Z
LAST-MODIFIED:20260105T172150Z
UID:7811-1768608000-1768780799@twirldancecheer.com
SUMMARY:Spirit of Hope Nationals
DESCRIPTION:
URL:https://twirldancecheer.com/event/spirit-of-hope-nationals/
LOCATION:Charlotte\, Charlotte\, NC
END:VEVENT
BEGIN:VEVENT
DTSTART;TZID=UTC:20250509T080000
DTEND;TZID=UTC:20250511T170000
DTSTAMP:20260423T233644
CREATED:20240622T000629Z
LAST-MODIFIED:20240622T000629Z
UID:7274-1746777600-1746982800@twirldancecheer.com
SUMMARY:D2 Summit Championship
DESCRIPTION:
URL:https://twirldancecheer.com/event/d2-summit-championship/
LOCATION:Orlando\, FL
END:VEVENT
BEGIN:VEVENT
DTSTART;TZID=UTC:20250423T080000
DTEND;TZID=UTC:20250425T170000
DTSTAMP:20260423T233644
CREATED:20240622T000518Z
LAST-MODIFIED:20240622T000518Z
UID:7271-1745395200-1745600400@twirldancecheer.com
SUMMARY:Youth Summit
DESCRIPTION:
URL:https://twirldancecheer.com/event/youth-summit/
LOCATION:Tampa\, FL
END:VEVENT
BEGIN:VEVENT
DTSTART;TZID=UTC:20250412T080000
DTEND;TZID=UTC:20250413T170000
DTSTAMP:20260423T233644
CREATED:20240622T000422Z
LAST-MODIFIED:20240622T000422Z
UID:7269-1744444800-1744563600@twirldancecheer.com
SUMMARY:Southeast Regional Summit Cheer Competition
DESCRIPTION:
URL:https://twirldancecheer.com/event/southeast-regional-summit-cheer-competition/
LOCATION:Atlanta\, GA
END:VEVENT
BEGIN:VEVENT
DTSTART;TZID=UTC:20250328T080000
DTEND;TZID=UTC:20250330T170000
DTSTAMP:20260423T233644
CREATED:20240622T000328Z
LAST-MODIFIED:20240622T000328Z
UID:7266-1743148800-1743354000@twirldancecheer.com
SUMMARY:One Up Cheer Competition
DESCRIPTION:
URL:https://twirldancecheer.com/event/one-up-cheer-competition/
LOCATION:Nashville\, TN
END:VEVENT
BEGIN:VEVENT
DTSTART;TZID=UTC:20250228T080000
DTEND;TZID=UTC:20250302T170000
DTSTAMP:20260423T233644
CREATED:20240622T000218Z
LAST-MODIFIED:20240622T000218Z
UID:7264-1740729600-1740934800@twirldancecheer.com
SUMMARY:NCA Nationals Cheer Competition
DESCRIPTION:Teams TBA
URL:https://twirldancecheer.com/event/nca-nationals-cheer-competition/
END:VEVENT
BEGIN:VEVENT
DTSTART;TZID=UTC:20250215T080000
DTEND;TZID=UTC:20250216T170000
DTSTAMP:20260423T233644
CREATED:20240622T000052Z
LAST-MODIFIED:20240622T000052Z
UID:7262-1739606400-1739725200@twirldancecheer.com
SUMMARY:Cheersport Cheer Competition
DESCRIPTION:
URL:https://twirldancecheer.com/event/cheersport-cheer-competition/
LOCATION:Atlanta\, GA
END:VEVENT
BEGIN:VEVENT
DTSTART;VALUE=DATE:20250126
DTEND;VALUE=DATE:20250127
DTSTAMP:20260423T233644
CREATED:20240622T000802Z
LAST-MODIFIED:20240622T000802Z
UID:7277-1737849600-1737935999@twirldancecheer.com
SUMMARY:NCA Classic Cheer Competition
DESCRIPTION:
URL:https://twirldancecheer.com/event/nca-classic-cheer-competition/
LOCATION:Atlanta\, GA
END:VEVENT
BEGIN:VEVENT
DTSTART;TZID=UTC:20250117T080000
DTEND;TZID=UTC:20250119T170000
DTSTAMP:20260423T233644
CREATED:20240621T235952Z
LAST-MODIFIED:20240621T235952Z
UID:7260-1737100800-1737306000@twirldancecheer.com
SUMMARY:Spirit of Hope Cheer Competition
DESCRIPTION:
URL:https://twirldancecheer.com/event/spirit-of-hope-cheer-competition/
END:VEVENT
BEGIN:VEVENT
DTSTART;TZID=UTC:20241214T080000
DTEND;TZID=UTC:20241215T170000
DTSTAMP:20260423T233644
CREATED:20240621T235847Z
LAST-MODIFIED:20240621T235847Z
UID:7257-1734163200-1734282000@twirldancecheer.com
SUMMARY:Battle Under The Big Top Cheer Competition
DESCRIPTION:
URL:https://twirldancecheer.com/event/battle-under-the-big-top-cheer-competition/
LOCATION:Atlanta\, GA
END:VEVENT
BEGIN:VEVENT
DTSTART;TZID=UTC:20240714T080000
DTEND;TZID=UTC:20240715T170000
DTSTAMP:20260423T233644
CREATED:20240621T235415Z
LAST-MODIFIED:20240621T235415Z
UID:7254-1720944000-1721062800@twirldancecheer.com
SUMMARY:2024 NBTA Twirl Nationals
DESCRIPTION:
URL:https://twirldancecheer.com/event/2024-nbta-twirl-nationals/
LOCATION:University of Notre Dame\, South Bend\, Indiana
END:VEVENT
BEGIN:VEVENT
DTSTART;VALUE=DATE:20240630
DTEND;VALUE=DATE:20240701
DTSTAMP:20260423T233644
CREATED:20240621T235101Z
LAST-MODIFIED:20240621T235101Z
UID:7251-1719705600-1719791999@twirldancecheer.com
SUMMARY:2024-2025 Team placements
DESCRIPTION:
URL:https://twirldancecheer.com/event/2024-2025-team-placements/
END:VEVENT
BEGIN:VEVENT
DTSTART;TZID=UTC:20200603T180000
DTEND;TZID=UTC:20200603T193000
DTSTAMP:20260423T233644
CREATED:20200527T193140Z
LAST-MODIFIED:20200527T193140Z
UID:1603-1591207200-1591212600@twirldancecheer.com
SUMMARY:LEVEL 3 CHEER TRYOUTS
DESCRIPTION:Wed\, June 3 – 6:00-7:30!  Please wear all black!
URL:https://twirldancecheer.com/event/level-3-cheer-tryouts/
LOCATION:Premier\, 2971 Monroe Highway\, Suite 106\, Bogart\, GA\, 30622\, United States
ORGANIZER;CN="Candy Byrd-Miller":MAILTO:info@twirldancecheer.com
END:VEVENT
BEGIN:VEVENT
DTSTART;TZID=UTC:20200601T183000
DTEND;TZID=UTC:20200601T203000
DTSTAMP:20260423T233644
CREATED:20200524T180100Z
LAST-MODIFIED:20200524T180239Z
UID:1599-1591036200-1591043400@twirldancecheer.com
SUMMARY:Open Level 4 Cheer Tryouts
DESCRIPTION:Ages 13+ Please wear all black! \nRegister on Schedule page! 
URL:https://twirldancecheer.com/event/open-level-4-cheer-tryouts/
LOCATION:Premier\, 2971 Monroe Highway\, Suite 106\, Bogart\, GA\, 30622\, United States
ORGANIZER;CN="Candy Byrd-Miller":MAILTO:info@twirldancecheer.com
END:VEVENT
BEGIN:VEVENT
DTSTART;TZID=UTC:20200521T183000
DTEND;TZID=UTC:20200521T200000
DTSTAMP:20260423T233644
CREATED:20190422T115209Z
LAST-MODIFIED:20200506T232202Z
UID:1488-1590085800-1590091200@twirldancecheer.com
SUMMARY:Competitive Cheer Evaluations ages 11 and up!
DESCRIPTION:Competitive Cheer evaluations for ages 11 and up! The evaluation will last an hour and a half . Our coaches will evaluate cheer knowledge and tumble skills to assess placement level. $25 fee for new cheerleaders\, no charge for current Premier students. Pricing and schedule will be given when team placements are announced.  \n2020 Cheer Evaluations \nRegister for your evaluation on the schedule page!
URL:https://twirldancecheer.com/event/competitive-cheer-evaluations-ages-10-and-up-2/
LOCATION:Premier\, 2971 Monroe Highway\, Suite 106\, Bogart\, GA\, 30622\, United States
ORGANIZER;CN="Candy Byrd-Miller":MAILTO:info@twirldancecheer.com
END:VEVENT
BEGIN:VEVENT
DTSTART;TZID=UTC:20200521T170000
DTEND;TZID=UTC:20200521T183000
DTSTAMP:20260423T233644
CREATED:20190422T115357Z
LAST-MODIFIED:20200506T232714Z
UID:1490-1590080400-1590085800@twirldancecheer.com
SUMMARY:Competitive Cheer Evaluations ages 6-10
DESCRIPTION:Competitive Cheer evaluations for ages 6-10! The evaluation will last 1 hour and a half. Our coaches will evaluate cheer knowledge and tumble skills to assess placement level. $25 fee for new cheerleaders\, no charge for current Premier students. Pricing and schedule will be given when team placements are announced. \n2020 Cheer Evaluations \nRegister for your evaluation on the Schedule page.
URL:https://twirldancecheer.com/event/competitive-cheer-evaluations-ages-6-10-2020/
LOCATION:Premier\, 2971 Monroe Highway\, Suite 106\, Bogart\, GA\, 30622\, United States
ORGANIZER;CN="Candy Byrd-Miller":MAILTO:info@twirldancecheer.com
END:VEVENT
BEGIN:VEVENT
DTSTART;VALUE=DATE:20200517
DTEND;VALUE=DATE:20200518
DTSTAMP:20260423T233644
CREATED:20190422T115055Z
LAST-MODIFIED:20200506T233225Z
UID:1486-1589673600-1589759999@twirldancecheer.com
SUMMARY:Competitive Cheer VIRTUAL Evaluations for all ages!
DESCRIPTION:Competitive Cheer VIRTUAL evaluations for all ages! Deadline May 17!  Please see the link to the pdf that explains the process.  Our coaches will evaluate cheer knowledge and tumble skills to assess placement level. $25 fee for new cheerleaders\, no charge for current Premier students. Pricing and schedule will be given at team placements. \n2020 Cheer Evaluations \nRegister on Schedule Page!
URL:https://twirldancecheer.com/event/competitive-cheer-virtual-evaluations-all-ages/
LOCATION:Premier\, 2971 Monroe Highway\, Suite 106\, Bogart\, GA\, 30622\, United States
ORGANIZER;CN="Candy Byrd-Miller":MAILTO:info@twirldancecheer.com
END:VEVENT
BEGIN:VEVENT
DTSTART;TZID=UTC:20200515T180000
DTEND;TZID=UTC:20200515T203000
DTSTAMP:20260423T233644
CREATED:20160310T162739Z
LAST-MODIFIED:20200428T134400Z
UID:1024-1589565600-1589574600@twirldancecheer.com
SUMMARY:Premier Spring Recital 2020 POSTPONED!
DESCRIPTION:POSTPONED!  We will be hosting an in-studio recital as soon as it is safe for people to attend! \nOur Premier Spring Recital for all classes will be held on Friday\, May 15 – 6:00\, at The Classic Center\, Athens\, GA! Please invite your family and friends as we watch our classes and competitive teams show off their skills!
URL:https://twirldancecheer.com/event/premier-preview-2016/
LOCATION:The Classic Center\, 300 North Thomas Street\, Athens\, GA\, 30601\, United States
ORGANIZER;CN="Candy Byrd-Miller":MAILTO:info@twirldancecheer.com
END:VEVENT
BEGIN:VEVENT
DTSTART;VALUE=DATE:20200425
DTEND;VALUE=DATE:20200426
DTSTAMP:20260423T233644
CREATED:20150725T193624Z
LAST-MODIFIED:20200204T154807Z
UID:537-1587772800-1587859199@twirldancecheer.com
SUMMARY:Premier Performance Spring Showcase Competition
DESCRIPTION:It’s our 6th Annual Spring Showcase Competition for Twirl\, Dance\, and Cheer!  New events have been added! \n  \nPremier-Performance-Registration-Form-2020 Updated
URL:https://twirldancecheer.com/event/premier-performance-spring-showcase/
LOCATION:Prince Avenue Christian School\, 2201 Ruth Jackson Road\, Bogart\, GA\, 30622\, United States
ORGANIZER;CN="Candy Byrd-Miller":MAILTO:info@twirldancecheer.com
END:VEVENT
BEGIN:VEVENT
DTSTART;TZID=UTC:20190728T150000
DTEND;TZID=UTC:20190728T170000
DTSTAMP:20260423T233644
CREATED:20190503T231940Z
LAST-MODIFIED:20190503T231940Z
UID:1536-1564326000-1564333200@twirldancecheer.com
SUMMARY:Dance Company Evaluation Clinic
DESCRIPTION:A brand new competitive program focusing on a variety of styles. The teams will practice twice weekly on Mondays and Wednesdays. All ages welcome! Competitions will be set in the coming weeks.\nAll pricing information will be given at the clinic.
URL:https://twirldancecheer.com/event/dance-company-evaluation-clinic-2/
LOCATION:Premier\, 2971 Monroe Highway\, Suite 106\, Bogart\, GA\, 30622\, United States
ORGANIZER;CN="Candy Byrd-Miller":MAILTO:info@twirldancecheer.com
END:VEVENT
BEGIN:VEVENT
DTSTART;TZID=UTC:20190725T180000
DTEND;TZID=UTC:20190725T200000
DTSTAMP:20260423T233644
CREATED:20190503T231550Z
LAST-MODIFIED:20190503T231550Z
UID:1534-1564077600-1564084800@twirldancecheer.com
SUMMARY:Dance Company Evaluation Clinic
DESCRIPTION:A brand new competitive program focusing on a variety of styles. The teams will practice twice weekly on Mondays and Wednesdays. All ages welcome! Competitions will be set in the coming weeks.\nAll pricing information will be given at the clinic.
URL:https://twirldancecheer.com/event/dance-company-evaluation-clinic/
LOCATION:Premier\, 2971 Monroe Highway\, Suite 106\, Bogart\, GA\, 30622\, United States
ORGANIZER;CN="Candy Byrd-Miller":MAILTO:info@twirldancecheer.com
END:VEVENT
BEGIN:VEVENT
DTSTART;TZID=UTC:20190511T100000
DTEND;TZID=UTC:20190511T110000
DTSTAMP:20260423T233644
CREATED:20190422T114822Z
LAST-MODIFIED:20190422T114822Z
UID:1484-1557568800-1557572400@twirldancecheer.com
SUMMARY:Competitive Cheer Evaluations ages 5-9
DESCRIPTION:Competitive Cheer evaluations for ages 5-9!  The evaluation will last an hour and our coaches will evaluate cheer knowledge and tumble skills to assess placement level.  $20 fee for new cheerleaders\, no charge for current Premier students. Pricing and schedule will be given at the evaluation.
URL:https://twirldancecheer.com/event/competitive-cheer-evaluations-ages-5-9/
LOCATION:Premier\, 2971 Monroe Highway\, Suite 106\, Bogart\, GA\, 30622\, United States
ORGANIZER;CN="Candy Byrd-Miller":MAILTO:info@twirldancecheer.com
END:VEVENT
BEGIN:VEVENT
DTSTART;VALUE=DATE:20190423
DTEND;VALUE=DATE:20190702
DTSTAMP:20260423T233644
CREATED:20160310T161007Z
LAST-MODIFIED:20190422T115815Z
UID:1021-1555977600-1562025599@twirldancecheer.com
SUMMARY:Summer Camps Registration Open!
DESCRIPTION:Our 6 week summer camp session begins on June 3!    Summer Camp info can be found on the summer camps page.
URL:https://twirldancecheer.com/event/summer-camp-registration-opens/
LOCATION:Premier\, 2971 Monroe Highway\, Suite 106\, Bogart\, GA\, 30622\, United States
ORGANIZER;CN="Candy Byrd-Miller":MAILTO:info@twirldancecheer.com
END:VEVENT
BEGIN:VEVENT
DTSTART;TZID=UTC:20180731T163000
DTEND;TZID=UTC:20180731T180000
DTSTAMP:20260423T233644
CREATED:20170721T152742Z
LAST-MODIFIED:20180718T173707Z
UID:1337-1533054600-1533060000@twirldancecheer.com
SUMMARY:Open House
DESCRIPTION:
URL:https://twirldancecheer.com/event/open-house-3/
LOCATION:Premier\, 2971 Monroe Highway\, Suite 106\, Bogart\, GA\, 30622\, United States
ORGANIZER;CN="Candy Byrd-Miller":MAILTO:info@twirldancecheer.com
END:VEVENT
BEGIN:VEVENT
DTSTART;TZID=UTC:20180729T163000
DTEND;TZID=UTC:20180729T180000
DTSTAMP:20260423T233644
CREATED:20170721T153030Z
LAST-MODIFIED:20180718T173832Z
UID:1339-1532881800-1532887200@twirldancecheer.com
SUMMARY:Open House
DESCRIPTION:
URL:https://twirldancecheer.com/event/open-house-4/
LOCATION:Premier\, 2971 Monroe Highway\, Suite 106\, Bogart\, GA\, 30622\, United States
ORGANIZER;CN="Candy Byrd-Miller":MAILTO:info@twirldancecheer.com
END:VEVENT
BEGIN:VEVENT
DTSTART;VALUE=DATE:20180623
DTEND;VALUE=DATE:20180624
DTSTAMP:20260423T233644
CREATED:20180122T025438Z
LAST-MODIFIED:20180122T025809Z
UID:1365-1529712000-1529798399@twirldancecheer.com
SUMMARY:Grand Champs on the Grand Strand\, Myrtle Beach
DESCRIPTION:The 6th Annual Grand Champs Competition is a fun-filled day of twirl and dance competition held in Myrtle Beach South Carolina! \n2018 Grand Champs Brochure
URL:https://twirldancecheer.com/event/grand-champs-on-the-grand-strand-myrtle-beach/
LOCATION:St. James High School\, Murrell’s Inlet\, SC\, 10800 South Carolina 707\, Murrell"s Inlet\, SC\, 29576\, United States
ORGANIZER;CN="Candy Byrd-Miller":MAILTO:info@twirldancecheer.com
END:VEVENT
BEGIN:VEVENT
DTSTART;TZID=UTC:20170730T140000
DTEND;TZID=UTC:20170730T160000
DTSTAMP:20260423T233644
CREATED:20170721T152653Z
LAST-MODIFIED:20170727T203502Z
UID:1335-1501423200-1501430400@twirldancecheer.com
SUMMARY:Open House
DESCRIPTION:
URL:https://twirldancecheer.com/event/open-house-2/
LOCATION:Premier\, 2971 Monroe Highway\, Suite 106\, Bogart\, GA\, 30622\, United States
ORGANIZER;CN="Candy Byrd-Miller":MAILTO:info@twirldancecheer.com
END:VEVENT
BEGIN:VEVENT
DTSTART;TZID=UTC:20161218T160000
DTEND;TZID=UTC:20161218T180000
DTSTAMP:20260423T233644
CREATED:20160802T122910Z
LAST-MODIFIED:20160802T122910Z
UID:1258-1482076800-1482084000@twirldancecheer.com
SUMMARY:PREMIER CHRISTMAS SPECTACULAR and SLEEPOVER!
DESCRIPTION:SAVE THE DATE\, to join us at PREMIER for our Christmas Spectacular as our classes and teams show off their skills and routines! There will be fun\, food\, gifts\, SANTA\, and best of all\, A SLEEPOVER for the kids so parents and caregivers can shop til you drop!  You will receive more information later in the fall!
URL:https://twirldancecheer.com/event/premier-christmas-spectacular-and-sleepover/
LOCATION:Oconee Veterans Park Gymnasium\, 3500 Hog Mountain Road\, Watkinsville\, GA\, 30677\, United States
ORGANIZER;CN="Candy Byrd-Miller":MAILTO:info@twirldancecheer.com
END:VEVENT
END:VCALENDAR