BEGIN:VCALENDAR
VERSION:2.0
PRODID:-//Premier Performance - ECPv6.15.20//NONSGML v1.0//EN
CALSCALE:GREGORIAN
METHOD:PUBLISH
X-ORIGINAL-URL:https://twirldancecheer.com
X-WR-CALDESC:Events for Premier Performance
REFRESH-INTERVAL;VALUE=DURATION:PT1H
X-Robots-Tag:noindex
X-PUBLISHED-TTL:PT1H
BEGIN:VTIMEZONE
TZID:UTC
BEGIN:STANDARD
TZOFFSETFROM:+0000
TZOFFSETTO:+0000
TZNAME:UTC
DTSTART:20250101T000000
END:STANDARD
END:VTIMEZONE
BEGIN:VEVENT
DTSTART;VALUE=DATE:20260714
DTEND;VALUE=DATE:20260719
DTSTAMP:20260423T204139
CREATED:20260106T002101Z
LAST-MODIFIED:20260106T002101Z
UID:7844-1783987200-1784419199@twirldancecheer.com
SUMMARY:NBTA Nationals-Notre Dame University
DESCRIPTION:
URL:https://twirldancecheer.com/event/nbta-nationals-notre-dame-university/
LOCATION:South Bend\, IN
END:VEVENT
END:VCALENDAR