BEGIN:VCALENDAR
VERSION:2.0
PRODID:-//Premier Performance - ECPv6.15.20//NONSGML v1.0//EN
CALSCALE:GREGORIAN
METHOD:PUBLISH
X-ORIGINAL-URL:https://twirldancecheer.com
X-WR-CALDESC:Events for Premier Performance
REFRESH-INTERVAL;VALUE=DURATION:PT1H
X-Robots-Tag:noindex
X-PUBLISHED-TTL:PT1H
BEGIN:VTIMEZONE
TZID:UTC
BEGIN:STANDARD
TZOFFSETFROM:+0000
TZOFFSETTO:+0000
TZNAME:UTC
DTSTART:20250101T000000
END:STANDARD
END:VTIMEZONE
BEGIN:VEVENT
DTSTART;VALUE=DATE:20260321
DTEND;VALUE=DATE:20260323
DTSTAMP:20260423T175805
CREATED:20260105T173102Z
LAST-MODIFIED:20260105T173102Z
UID:7821-1774051200-1774223999@twirldancecheer.com
SUMMARY:CANAM Grand Nationals
DESCRIPTION:
URL:https://twirldancecheer.com/event/canam-grand-nationals/
LOCATION:Myrtle Beach
END:VEVENT
END:VCALENDAR